BEGIN:VCALENDAR
VERSION:2.0
PRODID:-//wp-events-plugin.com//7.2.3.1//EN
TZID:Europe/Berlin
X-WR-TIMEZONE:Europe/Berlin
BEGIN:VEVENT
UID:255@eesi-impulszentrum.at
DTSTART;TZID=Europe/Berlin:20190110T120000
DTEND;TZID=Europe/Berlin:20190110T160000
DTSTAMP:20181029T164429Z
URL:https://www.eesi-impulszentrum.at/events/basis-schilf-zur-schulzertifi
 zierung/
SUMMARY:Basis-SchilF  zur Schulzertifizierung
DESCRIPTION:Referentinnen: Mag. Erika Hammerl und MMag. Beate Tötterström
 \n\nhttp://www.hak-linz.at
CATEGORIES:SchilF
LOCATION:Linz International Business School\, Rudigierstrasse 6\, Linz\, Ob
 erösterreich\, 4020\, Österreich
X-APPLE-STRUCTURED-LOCATION;VALUE=URI;X-ADDRESS=Rudigierstrasse 6\, Linz\, 
 Oberösterreich\, 4020\, Österreich;X-APPLE-RADIUS=100;X-TITLE=Linz Inter
 national Business School:geo:0,0
END:VEVENT
BEGIN:VTIMEZONE
TZID:Europe/Berlin
X-LIC-LOCATION:Europe/Berlin
BEGIN:STANDARD
DTSTART:20181028T020000
TZOFFSETFROM:+0200
TZOFFSETTO:+0100
TZNAME:CET
END:STANDARD
END:VTIMEZONE
END:VCALENDAR