BEGIN:VCALENDAR
VERSION:2.0
PRODID:-//wp-events-plugin.com//7.2.3.1//EN
TZID:Europe/Berlin
X-WR-TIMEZONE:Europe/Berlin
BEGIN:VEVENT
UID:472@eesi-impulszentrum.at
DTSTART;TZID=Europe/Berlin;VALUE=DATE:20250111
DTEND;TZID=Europe/Berlin;VALUE=DATE:20250113
DTSTAMP:20240711T083528Z
URL:https://www.eesi-impulszentrum.at/events/austrianskills-staatsmeisters
 chaften-2024-25/
SUMMARY:AustrianSkills Staatsmeisterschaften 2024/25
DESCRIPTION:Die Gewinnerinnen bzw. Gewinner der Landesmeisterschaften der B
 undesländer vertreten das jeweilige Bundesland bei den AustrianSkills Sta
 atsmeisterschaften in Wien im Beruf „Entrepreneurship/Business Developme
 nt Team Challenge“\n\n11. – 12. Jänner 2025 ganztags\nwenn nötig\, A
 nreise am Fr 10. Jänner\n\nBHAK Wien 10
CATEGORIES:Wettbewerb
END:VEVENT
BEGIN:VTIMEZONE
TZID:Europe/Berlin
X-LIC-LOCATION:Europe/Berlin
BEGIN:STANDARD
DTSTART:20241027T020000
TZOFFSETFROM:+0200
TZOFFSETTO:+0100
TZNAME:CET
END:STANDARD
END:VTIMEZONE
END:VCALENDAR