BEGIN:VCALENDAR
VERSION:2.0
PRODID:-//wp-events-plugin.com//7.2.3.1//EN
TZID:Europe/Berlin
X-WR-TIMEZONE:Europe/Berlin
BEGIN:VEVENT
UID:274@eesi-impulszentrum.at
DTSTART;TZID=Europe/Berlin:20190311T160000
DTEND;TZID=Europe/Berlin:20190311T200000
DTSTAMP:20190321T121607Z
URL:https://www.eesi-impulszentrum.at/events/abend-der-ideen/
SUMMARY:Abend der Ideen
DESCRIPTION:Das Interesse junger Menschen an wirtschaftlichen Zusammenhäng
 en und vor allem die Fähigkeit\nwirtschaftlich zu denken und zu handeln b
 ildet die Schlüsselrolle der kaufmännischen Ausbildung an der Bundeshand
 elsakademie und Bundeshandelsschule Hallein.\nUm möglichst früh Praxisko
 ntakte und Einblicke in die unternehmerische Tätigkeit zu erhalten\, habe
 n die Schülerinnen und Schüler der zweiten und vierten Jahrgänge der BH
 AK/BHAS Hallein in den letzten Wochen intensiv an Geschäftsideen sowie de
 ren Umsetzung in Form von Businessplänen gearbeitet.\nWir laden Sie sehr 
 herzlich zum\n „Abend der Ideen“ \nam Montag\, 11.03.2019 ab 18:30 Uh
 r in die \nBundeshandelsakademie und Bundeshandelsschule Hallein\nein und 
 freuen uns Ihnen die Geschäftsideen in Form eines Marktplatzes sowie „P
 itches“ (Kurzpräsentationen)\nvorstellen zu dürfen.\nDie Gewinner-Team
 s dieses Abends erhalten Finaltickets für das diesjährige Landesfinale!\
 nWir freuen uns auf Ihr Kommen!\n&nbsp\;\nDie Schülerinnen und Schüler\n
 der  2 AKN\, 2 BKN und die Schülerinnen des Ausbildungsschwerpunktes „
 Entrepreneurship“ des 4. Jahrganges\n&nbsp\;
CATEGORIES:Allgemein,Wettbewerb
LOCATION:BHAK/BHAS Hallein\, Neualmerstraße 28\, Hallein\, 5400\, Österre
 ich
GEO:47.687711;13.090877
X-APPLE-STRUCTURED-LOCATION;VALUE=URI;X-ADDRESS=Neualmerstraße 28\, Hallei
 n\, 5400\, Österreich;X-APPLE-RADIUS=100;X-TITLE=BHAK/BHAS Hallein:geo:47
 .687711,13.090877
END:VEVENT
BEGIN:VTIMEZONE
TZID:Europe/Berlin
X-LIC-LOCATION:Europe/Berlin
BEGIN:STANDARD
DTSTART:20181028T020000
TZOFFSETFROM:+0200
TZOFFSETTO:+0100
TZNAME:CET
END:STANDARD
END:VTIMEZONE
END:VCALENDAR